BEGIN:VCALENDAR
VERSION:2.0
PRODID:-//ChamberMaster//Event Calendar 2.0//EN
METHOD:PUBLISH
X-PUBLISHED-TTL:P3D
REFRESH-INTERVAL:P3D
CALSCALE:GREGORIAN
BEGIN:VEVENT
DTSTART:20180921T233000Z
DTEND:20180922T023000Z
X-MICROSOFT-CDO-ALLDAYEVENT:FALSE
SUMMARY:Bill Staines at the Minstrel
DESCRIPTION:For just about as long as anyone currently involved in folk music can remember\, Bill Staines has been the archetypical contemporary folk singer. People have been singing his songs on stage\, in recording studios\, and around campfires for over 30 years. He is responsible for such classics as "Roseville Fair"\, "All God's Critters Got a Place in the Choir"\, and "River"\, all with choruses that beg to be sung with. Come and see a true living legend. The Asthmatics open. Free parking\; wheelchair accessible.
X-ALT-DESC;FMTTYPE=text/html:For just about as long as anyone currently involved in folk music can remember\, Bill Staines has been the archetypical contemporary folk singer. People have been singing his songs on stage\, in recording studios\, and around campfires for over 30 years. He is responsible for such classics as &quot\;Roseville Fair&quot\;\, &quot\;All God&#39\;s Critters Got a Place in the Choir&quot\;\, and &quot\;River&quot\;\, all with choruses that beg to be sung with. Come and see a true living legend. The Asthmatics open. Free parking\; wheelchair accessible.
LOCATION:Morristown Unitarian Fellowship 21 Normandy Heights Road Morristown\, NJ 07960
UID:e.870.14299
SEQUENCE:3
DTSTAMP:20260421T010407Z
URL:https://business.suburbanchambers.org/events/details/bill-staines-at-the-minstrel-14299
END:VEVENT

END:VCALENDAR
