BEGIN:VCALENDAR
VERSION:2.0
PRODID:-//ChamberMaster//Event Calendar 2.0//EN
METHOD:PUBLISH
X-PUBLISHED-TTL:P3D
REFRESH-INTERVAL:P3D
CALSCALE:GREGORIAN
BEGIN:VEVENT
DTSTART:20180907T233000Z
DTEND:20180908T023000Z
X-MICROSOFT-CDO-ALLDAYEVENT:FALSE
SUMMARY:Betsy Rose and the Chicago Fire at the Minstrel
DESCRIPTION:Betsy Rose\, better known to fellow Folk Project members as Elizabeth Lachowicz\, is the Folk Project's resident Blues maven. Her clear voice and saucy style are rooted in the sights and sounds of Chicago's toughest neighborhoods and rowdiest music bars. Betsy's brand of the blues is filled with life lessons\, raw emotions\, heartfelt sorrows and playful innuendos. Her backup band\, The Chicago Fire\, is packed with some of the Project's finest musicians. Rhonda Schuster opens. Free parking\; wheelchair accessible.
X-ALT-DESC;FMTTYPE=text/html:Betsy Rose\, better known to fellow Folk Project members as Elizabeth Lachowicz\, is the Folk Project&#39\;s resident Blues maven. Her clear voice and saucy style are rooted in the sights and sounds of Chicago&#39\;s toughest neighborhoods and rowdiest music bars. Betsy&#39\;s brand of the blues is filled with life lessons\, raw emotions\, heartfelt sorrows and playful innuendos. Her backup band\, The Chicago Fire\, is packed with some of the Project&#39\;s finest musicians. Rhonda Schuster opens. Free parking\; wheelchair accessible.
LOCATION:Morristown Unitarian Fellowship 21 Normandy Heights Road Morristown\, NJ 07960
UID:e.870.14297
SEQUENCE:3
DTSTAMP:20260421T041813Z
URL:https://business.suburbanchambers.org/events/details/betsy-rose-and-the-chicago-fire-at-the-minstrel-14297
END:VEVENT

END:VCALENDAR
