BEGIN:VCALENDAR
VERSION:2.0
PRODID:-//ChamberMaster//Event Calendar 2.0//EN
METHOD:PUBLISH
X-PUBLISHED-TTL:P3D
REFRESH-INTERVAL:P3D
CALSCALE:GREGORIAN
BEGIN:VEVENT
DTSTART:20181201T180000Z
DTEND:20181201T210000Z
X-MICROSOFT-CDO-ALLDAYEVENT:FALSE
SUMMARY:Berkeley Heights Winter Walk
DESCRIPTION:Christmas  Tree Lighting\, Santa's Arrival and Fireworks!  Followed by Winter walk for and evening of fun\, festivities and community!
X-ALT-DESC;FMTTYPE=text/html:Christmas&nbsp\; Tree Lighting\, Santa&#39\;s Arrival and Fireworks!&nbsp\; Followed by Winter walk for and evening of fun\, festivities and community!
LOCATION:Peppertown Park\, Followed by Winter Walk on Springfield Ave.
UID:e.870.14836
SEQUENCE:3
DTSTAMP:20260420T144543Z
URL:https://business.suburbanchambers.org/events/details/berkeley-heights-winter-walk-14836
END:VEVENT

END:VCALENDAR
