BEGIN:VCALENDAR
VERSION:2.0
PRODID:-//ChamberMaster//Event Calendar 2.0//EN
METHOD:PUBLISH
X-PUBLISHED-TTL:P3D
REFRESH-INTERVAL:P3D
CALSCALE:GREGORIAN
BEGIN:VEVENT
DTSTART;VALUE=DATE:20180624
DTEND;VALUE=DATE:20180625
TRANSP:TRANSPARENT
X-MICROSOFT-CDO-ALLDAYEVENT:TRUE
SUMMARY:Berkeley Heights Street Fair
DESCRIPTION:JOIN US AT THE FAIR!!! Sunday June 24\, Loads of fun for all! Awesome activities for kids\, rides\, games\, touch a truck\, great vendors\, great bands and performances and a Beer Garden!
X-ALT-DESC;FMTTYPE=text/html:<span style="color: rgb(29\, 33\, 41)\; font-family: Helvetica\, Arial\, sans-serif\; font-size: 14px\;">JOIN US AT THE FAIR!!! Sunday June 24\, Loads of fun for all! Awesome activities for kids\, rides\, games\, touch a truck\, great vendors\, great bands and performances and a Beer Garden!</span>
LOCATION:Springfield Avenue\, Berkeley Heights
UID:e.870.9365
SEQUENCE:3
DTSTAMP:20260421T124724Z
URL:https://business.suburbanchambers.org/events/details/berkeley-heights-street-fair-9365
END:VEVENT

END:VCALENDAR
