BEGIN:VCALENDAR
VERSION:2.0
PRODID:-//ChamberMaster//Event Calendar 2.0//EN
METHOD:PUBLISH
X-PUBLISHED-TTL:P3D
REFRESH-INTERVAL:P3D
CALSCALE:GREGORIAN
BEGIN:VEVENT
DTSTART:20181220T190000Z
DTEND:20181220T203000Z
X-MICROSOFT-CDO-ALLDAYEVENT:FALSE
SUMMARY:Bereavement Group for Spouses
DESCRIPTION:NEW Bereavement Support Group for Spouses A new\, free 9-week bereavement support group for people age 65 and older who have lost a spouse in the last year. The support group will be led by Kathy Larkin\, Licensed Clinical Social Worker and SAGE's InfoCare Manager. Pre-registration is required.
X-ALT-DESC;FMTTYPE=text/html:NEW Bereavement Support Group for Spouses A new\, free 9-week bereavement support group for people age 65 and older who have lost a spouse in the last year. The support group will be led by Kathy Larkin\, Licensed Clinical Social Worker and SAGE&#39\;s InfoCare Manager. Pre-registration is required.
LOCATION:SAGE Eldercare 290 Broad Street Summit\, NJ
UID:e.870.14554
SEQUENCE:3
DTSTAMP:20260420T151120Z
URL:https://business.suburbanchambers.org/events/details/bereavement-group-for-spouses-12-20-2018-14554
END:VEVENT

END:VCALENDAR
