BEGIN:VCALENDAR
VERSION:2.0
PRODID:-//ChamberMaster//Event Calendar 2.0//EN
METHOD:PUBLISH
X-PUBLISHED-TTL:P3D
REFRESH-INTERVAL:P3D
CALSCALE:GREGORIAN
BEGIN:VEVENT
DTSTART:20180928T233000Z
DTEND:20180929T023000Z
X-MICROSOFT-CDO-ALLDAYEVENT:FALSE
SUMMARY:Beppe Gambetta at the Minstrel
DESCRIPTION:Beppe Gambetta\, the Italian bluegrass flatpicking champion. Sounds like an ethnic joke\, but Beppe is no joke. Early in life he was captured by the music of such greats as Doc Watson and Tony Rice\, and soon got to the point where he was sharing festival stages as an equal with his heroes. Equally adroit on mandolin\, he can blaze through a hot bluegrass tune or croon a lovely Italian traditional ballad. And all with an elegant continental charm that is a joy to witness. Peter Lister opens. Free parking\; wheelchair accessible.
X-ALT-DESC;FMTTYPE=text/html:Beppe Gambetta\, the Italian bluegrass flatpicking champion. Sounds like an ethnic joke\, but Beppe is no joke. Early in life he was captured by the music of such greats as Doc Watson and Tony Rice\, and soon got to the point where he was sharing festival stages as an equal with his heroes. Equally adroit on mandolin\, he can blaze through a hot bluegrass tune or croon a lovely Italian traditional ballad. And all with an elegant continental charm that is a joy to witness. Peter Lister opens. Free parking\; wheelchair accessible.
LOCATION:Morristown Unitarian Fellowship 21 Normandy Heights Road Morristown\, NJ 07960
UID:e.870.14300
SEQUENCE:3
DTSTAMP:20260421T041258Z
URL:https://business.suburbanchambers.org/events/details/beppe-gambetta-at-the-minstrel-14300
END:VEVENT

END:VCALENDAR
