BEGIN:VCALENDAR
VERSION:2.0
PRODID:-//ChamberMaster//Event Calendar 2.0//EN
METHOD:PUBLISH
X-PUBLISHED-TTL:P3D
REFRESH-INTERVAL:P3D
CALSCALE:GREGORIAN
BEGIN:VEVENT
DTSTART:20190511T190000Z
DTEND:20190511T200000Z
X-MICROSOFT-CDO-ALLDAYEVENT:FALSE
SUMMARY:Author Talk: Gene Pantalone
DESCRIPTION:Gene Pantalone speaks about the extraordinary life of prizefighter and World War II/ Korean War hero Lew Jenkins. Pantalone's latest book is From Boxing Ring to Battlefield: the Life of War Hero Lew Jenkins\, published by Rowman & Littlefield.
X-ALT-DESC;FMTTYPE=text/html:Gene Pantalone speaks about the extraordinary life of prizefighter and World War II/ Korean War hero Lew Jenkins. Pantalone&rsquo\;s latest book is From Boxing Ring to Battlefield: the Life of War Hero Lew Jenkins\, published by Rowman &amp\; Littlefield.
LOCATION:New Providence Memorial Library
UID:e.870.15415
SEQUENCE:3
DTSTAMP:20260419T231334Z
URL:https://business.suburbanchambers.org/events/details/author-talk-gene-pantalone-15415
END:VEVENT

END:VCALENDAR
