BEGIN:VCALENDAR
VERSION:2.0
PRODID:-//ChamberMaster//Event Calendar 2.0//EN
METHOD:PUBLISH
X-PUBLISHED-TTL:P3D
REFRESH-INTERVAL:P3D
CALSCALE:GREGORIAN
BEGIN:VEVENT
DTSTART:20180912T220000Z
DTEND:20180913T000000Z
X-MICROSOFT-CDO-ALLDAYEVENT:FALSE
SUMMARY:Artist Recption For Santa Fe Exihibit
DESCRIPTION:The public is invited to a meet-the-artist reception at the Hat Tavern.
X-ALT-DESC;FMTTYPE=text/html:The public is invited to a meet-the-artist reception at the Hat Tavern.
LOCATION:Hat Tavern\, Grand Summit Hotel 570 Springfield Ave. Summit\, NJ 07901
UID:e.870.14362
SEQUENCE:3
DTSTAMP:20260421T041651Z
URL:https://business.suburbanchambers.org/events/details/artist-recption-for-santa-fe-exihibit-14362
END:VEVENT

END:VCALENDAR
