BEGIN:VCALENDAR
VERSION:2.0
PRODID:-//ChamberMaster//Event Calendar 2.0//EN
METHOD:PUBLISH
X-PUBLISHED-TTL:P3D
REFRESH-INTERVAL:P3D
CALSCALE:GREGORIAN
BEGIN:VEVENT
DTSTART:20180614T220000Z
DTEND:20180614T230000Z
X-MICROSOFT-CDO-ALLDAYEVENT:FALSE
SUMMARY:Artist Reception for The Wild Horses of Sable Island at Reeves-Reed Arboretum
DESCRIPTION:Through October 28\, 2018 ART in the Garden traditionally celebrates the kick off for our season of visual and performing arts\, with\, this year\, the installation of The Wild Horses of Sable Island\, showcasing the extraordinary work of artist\, photographer and environmentalist Roberto Dutesco. Dutesco portrays the wild beauty of these horses as well as the barren and unspoiled qualities of the island\, creating a photographic memoir that captures both the soul and the spirit. This exhibit can be viewed when Wisner House is open.
X-ALT-DESC;FMTTYPE=text/html:Through October 28\, 2018 ART in the Garden traditionally celebrates the kick off for our season of visual and performing arts\, with\, this year\, the installation of The Wild Horses of Sable Island\, showcasing the extraordinary work of artist\, photographer and environmentalist Roberto Dutesco. Dutesco portrays the wild beauty of these horses as well as the barren and unspoiled qualities of the island\, creating a photographic memoir that captures both the soul and the spirit. This exhibit can be viewed when Wisner House is open.&nbsp\;
LOCATION:Reeves-Reed Arboretum\, 165 Hobart Ave.\, Summit\, NJ 07901
UID:e.870.13083
SEQUENCE:3
DTSTAMP:20260421T102649Z
URL:https://business.suburbanchambers.org/events/details/artist-reception-for-the-wild-horses-of-sable-island-at-reeves-reed-arboretum-13083
END:VEVENT

END:VCALENDAR
