BEGIN:VCALENDAR
VERSION:2.0
PRODID:-//ChamberMaster//Event Calendar 2.0//EN
METHOD:PUBLISH
X-PUBLISHED-TTL:P3D
REFRESH-INTERVAL:P3D
CALSCALE:GREGORIAN
BEGIN:VEVENT
DTSTART:20190416T200000Z
DTEND:20190416T210000Z
X-MICROSOFT-CDO-ALLDAYEVENT:FALSE
SUMMARY:Art & Stories with Miss Alyson
DESCRIPTION:(Kids in Grades K-2) Join Miss Alyson for a special story\, literacy activity & craft. Registration required. Register on NP Community Pass.
X-ALT-DESC;FMTTYPE=text/html:(Kids in Grades K-2) Join Miss Alyson for a special story\, literacy activity &amp\; craft. Registration required. Register on NP Community Pass.
LOCATION:New Providence Memorial Library
UID:e.870.15362
SEQUENCE:3
DTSTAMP:20260420T035740Z
URL:https://business.suburbanchambers.org/events/details/art-stories-with-miss-alyson-15362
END:VEVENT

END:VCALENDAR
