BEGIN:VCALENDAR
VERSION:2.0
PRODID:-//ChamberMaster//Event Calendar 2.0//EN
METHOD:PUBLISH
X-PUBLISHED-TTL:P3D
REFRESH-INTERVAL:P3D
CALSCALE:GREGORIAN
BEGIN:VEVENT
DTSTART:20180824T220000Z
DTEND:20180825T000000Z
X-MICROSOFT-CDO-ALLDAYEVENT:FALSE
SUMMARY:Arboretum Explorers - Sunset Stand Up Paddling Tour
DESCRIPTION:(for ages 16 and up) Stand up paddle boarding is the new craze in watersports! What better way to enjoy an evening on the water. After a long work day\, come out and enjoy a fantastic sunset. You'll never look at sunsets the same after experiencing one from a stand up paddleboard. Registration is required. Plan to meet at Spruce Run Reservoir in Clinton at least 15 minutes prior to the start of the tour for board sizing.  Arboretum Explorers is a new adventure series designed to explore natural areas beyond Reeves-Reed Arboretum. Whether we are navigating rocky terrain or paddling on tranquil waters\, each outing will be an adventure!
X-ALT-DESC;FMTTYPE=text/html:(for ages 16 and up) Stand up paddle boarding is the new craze in watersports! What better way to enjoy an evening on the water. After a long work day\, come out and enjoy a fantastic sunset. You&#39\;ll never look at sunsets the same after experiencing one from a stand up paddleboard. Registration is required. Plan to meet at Spruce Run Reservoir in Clinton at least 15 minutes prior to the start of the tour for board sizing.&nbsp\; Arboretum Explorers is a new adventure series designed to explore natural areas beyond Reeves-Reed Arboretum. Whether we are navigating rocky terrain or paddling on tranquil waters\, each outing will be an adventure!&nbsp\;
LOCATION:Spruce Run Reservoir in Clinton
UID:e.870.14365
SEQUENCE:3
DTSTAMP:20260421T041608Z
URL:https://business.suburbanchambers.org/events/details/arboretum-explorers-sunset-stand-up-paddling-tour-14365
END:VEVENT

END:VCALENDAR
