BEGIN:VCALENDAR
VERSION:2.0
PRODID:-//ChamberMaster//Event Calendar 2.0//EN
METHOD:PUBLISH
X-PUBLISHED-TTL:P3D
REFRESH-INTERVAL:P3D
CALSCALE:GREGORIAN
BEGIN:VEVENT
DTSTART:20181006T170000Z
DTEND:20181006T193000Z
X-MICROSOFT-CDO-ALLDAYEVENT:FALSE
SUMMARY:Arboretum Explorers - Silas Condict Hike
DESCRIPTION:Join Director of Education\, Jackie Kondel on a moderate 3 mile hike in this 1\,500+ acre natural area in Morris County. As we hike along this beautiful loop trail with rocky footpaths\, stream crossings\, overlooks and memorable glacial erratics\, learn about the local flora and fauna as well as the geological history of the area. Please be sure to wear sturdy shoes and bring a water bottle and snack. We will meet in the parking lot at Silas Condict Park in Kinnelon\, NJ. Please click here for directions. Registration is required. Arboretum Explorers is a new adventure series designed to explore natural areas beyond Reeves-Reed Arboretum. Whether we are navigating rocky terrain or paddling on tranquil waters\, each outing will be an adventure!  Pre Registration: Required More information: RRA Website
X-ALT-DESC;FMTTYPE=text/html:Join Director of Education\, Jackie Kondel on a moderate 3 mile hike in this 1\,500+ acre natural area in Morris County. As we hike along this beautiful loop trail with rocky footpaths\, stream crossings\, overlooks and memorable glacial erratics\, learn about the local flora and fauna as well as the geological history of the area. Please be sure to wear sturdy shoes and bring a water bottle and snack. We will meet in the parking lot at Silas Condict Park in Kinnelon\, NJ. Please click here for directions. Registration is required. Arboretum Explorers is a new adventure series designed to explore natural areas beyond Reeves-Reed Arboretum. Whether we are navigating rocky terrain or paddling on tranquil waters\, each outing will be an adventure!&nbsp\; Pre Registration: Required More information: RRA Website&nbsp\;
LOCATION:parking lot at Silas Condict Park in Kinnelon\, NJ
UID:e.870.14521
SEQUENCE:3
DTSTAMP:20260420T220024Z
URL:https://business.suburbanchambers.org/events/details/arboretum-explorers-silas-condict-hike-14521
END:VEVENT

END:VCALENDAR
