BEGIN:VCALENDAR
VERSION:2.0
PRODID:-//ChamberMaster//Event Calendar 2.0//EN
METHOD:PUBLISH
X-PUBLISHED-TTL:P3D
REFRESH-INTERVAL:P3D
CALSCALE:GREGORIAN
BEGIN:VEVENT
DTSTART:20180603T173000Z
DTEND:20180603T203000Z
X-MICROSOFT-CDO-ALLDAYEVENT:FALSE
SUMMARY:Arboretum Explorers - Passaic River/Great Swamp Paddle (Easy)
DESCRIPTION:(ages 6 and up) Bordering Great Swamp National Wildlife Refuge this section of the Passaic River boasts beautiful scenery and plenty of wildlife. You'll feel at one with nature as the river's twists and turns carry you deeper into the refuge's soul. We'll even portage over a beaver dam and check out their amazing handiwork. Led by an ACA (American Canoe Association) certified kayak instructor from Kayak East\, this tour is rated "Easy" meaning no experience is necessary. This tour is great for families and paddlers of any skill level. Photographers\, bird-watchers and anyone who wants to get outside and enjoy nature will also love it! Plan to meet at the Passaic River in Bernards Township at least 15 minutes prior to the start of the tour for boat fit. Directions and additional information will be provided upon registration. Paddlers ages 15 and under must be accompanied by an adult. Children 6 to12 years of age must share a tandem kayak with an adult. Space is limited so don't wait to register! Registration is required.
X-ALT-DESC;FMTTYPE=text/html:(ages 6 and up) Bordering Great Swamp National Wildlife Refuge this section of the Passaic River boasts beautiful scenery and plenty of wildlife. You&#39\;ll feel at one with nature as the river&#39\;s twists and turns carry you deeper into the refuge&#39\;s soul. We&#39\;ll even portage over a beaver dam and check out their amazing handiwork. Led by an ACA (American Canoe Association) certified kayak instructor from Kayak East\, this tour is rated &quot\;Easy&quot\; meaning no experience is necessary. This tour is great for families and paddlers of any skill level. Photographers\, bird-watchers and anyone who wants to get outside and enjoy nature will also love it! Plan to meet at the Passaic River in Bernards Township at least 15 minutes prior to the start of the tour for boat fit. Directions and additional information will be provided upon registration. Paddlers ages 15 and under must be accompanied by an adult. Children 6 to12 years of age must share a tandem kayak with an adult. Space is limited so don&#39\;t wait to register! Registration is required.&nbsp\;
LOCATION:Passaic River in Bernards Township
UID:e.870.13040
SEQUENCE:3
DTSTAMP:20260421T100546Z
URL:https://business.suburbanchambers.org/events/details/arboretum-explorers-passaic-river-great-swamp-paddle-easy-13040
END:VEVENT

END:VCALENDAR
