BEGIN:VCALENDAR
VERSION:2.0
PRODID:-//ChamberMaster//Event Calendar 2.0//EN
METHOD:PUBLISH
X-PUBLISHED-TTL:P3D
REFRESH-INTERVAL:P3D
CALSCALE:GREGORIAN
BEGIN:VEVENT
DTSTART:20190518T230000Z
DTEND:20190519T010000Z
X-MICROSOFT-CDO-ALLDAYEVENT:FALSE
SUMMARY:An Evening with Robert McCormick\, Concert Organist
DESCRIPTION:Described by Choir & Organ as "indomitable and immensely gifted" and by The Macon Telegraph as "an artist of rare sensitivity and passion"\, Robert McCormick is widely heralded by his colleagues as one of the finest concert and church musicians of this era. Known for his creative and unique abilities in organ improvisation and commanding\, eloquent performances of repertoire of all styles\, he is the Organist and Choirmaster of St. Mark's Episcopal Church in Philadelphia\, Pa. Reception immediately following.
X-ALT-DESC;FMTTYPE=text/html:Described by Choir &amp\; Organ as &ldquo\;indomitable and immensely gifted&rdquo\; and by The Macon Telegraph as &ldquo\;an artist of rare sensitivity and passion&rdquo\;\, Robert McCormick is widely heralded by his colleagues as one of the finest concert and church musicians of this era. Known for his creative and unique abilities in organ improvisation and commanding\, eloquent performances of repertoire of all styles\, he is the Organist and Choirmaster of St. Mark&rsquo\;s Episcopal Church in Philadelphia\, Pa. Reception immediately following.
LOCATION:Calvary Church\, 31 Woodland Ave.\, Summit
UID:e.870.15422
SEQUENCE:3
DTSTAMP:20260419T192114Z
URL:https://business.suburbanchambers.org/events/details/an-evening-with-robert-mccormick-concert-organist-15422
END:VEVENT

END:VCALENDAR
