BEGIN:VCALENDAR
VERSION:2.0
PRODID:-//ChamberMaster//Event Calendar 2.0//EN
METHOD:PUBLISH
X-PUBLISHED-TTL:P3D
REFRESH-INTERVAL:P3D
CALSCALE:GREGORIAN
BEGIN:VEVENT
DTSTART:20190125T230000Z
DTEND:20190126T010000Z
X-MICROSOFT-CDO-ALLDAYEVENT:FALSE
SUMMARY:American Boys Prep Open House
DESCRIPTION:American Boys Preparatory Academy Open House\n\nFriday\, January 25th\, 6 - 8 pm\n\n* School Choice gear giveaways\n\n* Refreshments\n\n* Essay Contest for boys 9 to 13 years old -- win free tuition voucher!\n\n\n\nABPA Features:\n\n  Affordable    Small Class Size    Self-Paced\n\n  Payment Plan    Flexible Days & Hours    Low Stress\n\n\n\nPlease RSVP to 908.516.4231 or Admissions@ABP-Academy.org
X-ALT-DESC;FMTTYPE=text/html:American Boys Preparatory Academy Open House<br />\nFriday\, January 25th\, 6 - 8 pm<br />\n* School Choice gear giveaways<br />\n* Refreshments<br />\n* Essay Contest for boys 9 to 13 years old -- win free tuition voucher!<br />\n<br />\nABPA Features:<br />\n&gt\; Affordable&nbsp\; &gt\; Small Class Size&nbsp\; &gt\; Self-Paced<br />\n&gt\; Payment Plan&nbsp\; &gt\; Flexible Days &amp\; Hours&nbsp\; &gt\; Low Stress<br />\n<br />\nPlease RSVP to 908.516.4231 or Admissions@ABP-Academy.org
LOCATION:Friday January 25\, 6-8 PM
UID:e.870.15233
SEQUENCE:3
DTSTAMP:20260420T143720Z
URL:https://business.suburbanchambers.org/events/details/american-boys-prep-open-house-15233
END:VEVENT

END:VCALENDAR
