BEGIN:VCALENDAR
VERSION:2.0
PRODID:-//ChamberMaster//Event Calendar 2.0//EN
METHOD:PUBLISH
X-PUBLISHED-TTL:P3D
REFRESH-INTERVAL:P3D
CALSCALE:GREGORIAN
BEGIN:VEVENT
DTSTART:20190516T220000Z
DTEND:20190516T230000Z
X-MICROSOFT-CDO-ALLDAYEVENT:FALSE
SUMMARY:Alzheimer's Association: Understanding Alzheimer's and Dementia
DESCRIPTION:Learn about the relationship between Alzheimer's disease and dementia. Examine what happens in a brain affected by Alzheimer's and the risk factors associated with the three general stages of the disease. Learn about FDA-approved treatments available to treat some symptoms and look ahead to what is on the horizon in Alzheimer's research.
X-ALT-DESC;FMTTYPE=text/html:Learn about the relationship between Alzheimer&rsquo\;s disease and dementia. Examine what happens in a brain affected by Alzheimer&rsquo\;s and the risk factors associated with the three general stages of the disease. Learn about FDA-approved treatments available to treat some symptoms and look ahead to what is on the horizon in Alzheimer&rsquo\;s research.&nbsp\;
LOCATION:SAGE Eldercare 290 Broad Street
UID:e.870.15456
SEQUENCE:3
DTSTAMP:20260419T192248Z
URL:https://business.suburbanchambers.org/events/details/alzheimer-s-association-understanding-alzheimer-s-and-dementia-15456
END:VEVENT

END:VCALENDAR
