BEGIN:VCALENDAR
VERSION:2.0
PRODID:-//ChamberMaster//Event Calendar 2.0//EN
METHOD:PUBLISH
X-PUBLISHED-TTL:P3D
REFRESH-INTERVAL:P3D
CALSCALE:GREGORIAN
BEGIN:VEVENT
DTSTART:20190423T180000Z
DTEND:20190423T190000Z
X-MICROSOFT-CDO-ALLDAYEVENT:FALSE
SUMMARY:Alzheimer's Association: Effective Communication
DESCRIPTION:Learn about the communication changes that take place throughout the course of the disease. Decode the verbal and behavioral messages delivered by someone with dementia and respond in ways that are helpful. Identify strategies to connect and communicate at each stage of the disease. To register\, call 800-272-3900.
X-ALT-DESC;FMTTYPE=text/html:Learn about the communication changes that take place throughout the course of the disease. Decode the verbal and behavioral messages delivered by someone with dementia and respond in ways that are helpful. Identify strategies to connect and communicate at each stage of the disease. To register\, call 800-272-3900.
LOCATION:SAGE Eldercare 290 Broad Street Summit
UID:e.870.15377
SEQUENCE:3
DTSTAMP:20260419T232114Z
URL:https://business.suburbanchambers.org/events/details/alzheimer-s-association-effective-communication-15377
END:VEVENT

END:VCALENDAR
