BEGIN:VCALENDAR
VERSION:2.0
PRODID:-//ChamberMaster//Event Calendar 2.0//EN
METHOD:PUBLISH
X-PUBLISHED-TTL:P3D
REFRESH-INTERVAL:P3D
CALSCALE:GREGORIAN
BEGIN:VEVENT
DTSTART:20190328T171500Z
DTEND:20190328T183000Z
X-MICROSOFT-CDO-ALLDAYEVENT:FALSE
SUMMARY:Adult Violin/Cello group lessons
DESCRIPTION:Always wanted to learn to play an instrument? Now's your chance! Warren Cohen\, conductor of New Jersey Intergenerational Orchestra will be teaching this beginner string class where you'll learn proper techniques for holding your instrument and producing a good tone. Participants do not need to know how to read music. No class March 28. Please register in advance   Class is limited to 10 students.
X-ALT-DESC;FMTTYPE=text/html:Always wanted to learn to play an instrument? Now&rsquo\;s your chance! Warren Cohen\, conductor of New Jersey Intergenerational Orchestra will be teaching this beginner string class where you&rsquo\;ll learn proper techniques for holding your instrument and producing a good tone. Participants do not need to know how to read music. No class March 28. Please register in advance &ndash\; Class is limited to 10 students.
LOCATION:Summit YMCA 67 Maple Street
UID:e.870.14973
SEQUENCE:3
DTSTAMP:20260420T041905Z
URL:https://business.suburbanchambers.org/events/details/adult-violin-cello-group-lessons-03-28-2019-14973
END:VEVENT

END:VCALENDAR
