BEGIN:VCALENDAR
VERSION:2.0
PRODID:-//ChamberMaster//Event Calendar 2.0//EN
METHOD:PUBLISH
X-PUBLISHED-TTL:P3D
REFRESH-INTERVAL:P3D
CALSCALE:GREGORIAN
BEGIN:VEVENT
DTSTART:20181019T233000Z
DTEND:20181020T023000Z
X-MICROSOFT-CDO-ALLDAYEVENT:FALSE
SUMMARY:Abbie Gardner at the Minstrel
DESCRIPTION:Abbie Gardner is best known to the Minstrel regulars as the dobro player with the infectious smile from the group Red Molly\,performing mostly her original songs of love and loss\, both gritty and sweet\, propelled by her clear and expressive vocals and impeccable slide guitar playing. There's a pure Country feel to her delivery\, channeling Lucinda and Bonnie\, but remaining pure Abbie. He Bird\, She Bird opens. Wheelchair accessible
X-ALT-DESC;FMTTYPE=text/html:Abbie Gardner is best known to the Minstrel regulars as the dobro player with the infectious smile from the group Red Molly\,performing mostly her original songs of love and loss\, both gritty and sweet\, propelled by her clear and expressive vocals and impeccable slide guitar playing. There&#39\;s a pure Country feel to her delivery\, channeling Lucinda and Bonnie\, but remaining pure Abbie. He Bird\, She Bird opens. Wheelchair accessible
LOCATION:Morristown Unitarian Fellowship 21 Normandy Heights Road Morristown\, NJ 07960
UID:e.870.14397
SEQUENCE:3
DTSTAMP:20260420T220321Z
URL:https://business.suburbanchambers.org/events/details/abbie-gardner-at-the-minstrel-14397
END:VEVENT

END:VCALENDAR
