BEGIN:VCALENDAR
VERSION:2.0
PRODID:-//ChamberMaster//Event Calendar 2.0//EN
METHOD:PUBLISH
X-PUBLISHED-TTL:P3D
REFRESH-INTERVAL:P3D
CALSCALE:GREGORIAN
BEGIN:VEVENT
DTSTART:20181209T010000Z
DTEND:20181209T030000Z
X-MICROSOFT-CDO-ALLDAYEVENT:FALSE
SUMMARY:A Very Special Holiday Special
DESCRIPTION:A VERY SPECIAL (HOLIDAY) SPECIAL is an all-original good old-fashioned holiday variety show in the style of traditional television holiday specials. While every year's show is unique\, the Very Special Special will include a healthy serving of improv\, spoofs of holiday songs\, comic sketches and lots of fun. It's a Dreamcatcher annual tradition that's sure to get you in the holiday spirit! One night only!
X-ALT-DESC;FMTTYPE=text/html:A VERY SPECIAL (HOLIDAY) SPECIAL is an all-original good old-fashioned holiday variety show in the style of traditional television holiday specials. While every year&rsquo\;s show is unique\, the Very Special Special will include a healthy serving of improv\, spoofs of holiday songs\, comic sketches and lots of fun. It&rsquo\;s a Dreamcatcher annual tradition that&rsquo\;s sure to get you in the holiday spirit! One night only!
LOCATION:Dreamcatcher Repertory Theatre Oakes Center 120 Morris Avenue Summit\, NJ
UID:e.870.14417
SEQUENCE:3
DTSTAMP:20260420T190612Z
URL:https://business.suburbanchambers.org/events/details/a-very-special-holiday-special-12-08-2018-14417
END:VEVENT

END:VCALENDAR
