BEGIN:VCALENDAR
VERSION:2.0
PRODID:-//ChamberMaster//Event Calendar 2.0//EN
METHOD:PUBLISH
X-PUBLISHED-TTL:P3D
REFRESH-INTERVAL:P3D
CALSCALE:GREGORIAN
BEGIN:VEVENT
DTSTART:20190510T120000Z
DTEND:20190511T000000Z
X-MICROSOFT-CDO-ALLDAYEVENT:FALSE
SUMMARY:82nd Annual Maplewood Garden Club Plant Sale
DESCRIPTION:The "Big Momma of All Plant Sales" is back! Maplewood Garden Club's 82nd Annual Plant Sale will be held from May 9 to 11 (rain or shine!). Selections include tomatoes (heirloom\, cherries\, and more)\, vegetables\, herbs\, annuals\, tender perennials\, perennials (over 300 varieties\, divided into sections for shade\, part-shade\, and sun)\, houseplants\, hanging baskets\, tropicals\, shrubs\, trees\, and Mother's Day baskets. Proceeds are returned to the community through MGC's community projects\, scholarships\, youth garden\, and speaker's programs. Location: Maplewood Community Pool parking lot\, 187 Boyden Avenue\, Maplewood Hours: May 9: noon to 8 p.m.\; May 10: 8 a.m. to 8 p.m.\; May 11: 8 a.m. to 4 p.m. (rain or shine!) For more information\, visit http://maplewoodgardenclub.org/plant-sale
X-ALT-DESC;FMTTYPE=text/html:The &quot\;Big Momma of All Plant Sales&quot\; is back! Maplewood Garden Club&#39\;s 82nd Annual Plant Sale will be held from May 9 to 11 (rain or shine!). Selections include tomatoes (heirloom\, cherries\, and more)\, vegetables\, herbs\, annuals\, tender perennials\, perennials (over 300 varieties\, divided into sections for shade\, part-shade\, and sun)\, houseplants\, hanging baskets\, tropicals\, shrubs\, trees\, and Mother&rsquo\;s Day baskets. Proceeds are returned to the community through MGC&#39\;s community projects\, scholarships\, youth garden\, and speaker&#39\;s programs. Location: Maplewood Community Pool parking lot\, 187 Boyden Avenue\, Maplewood Hours: May 9: noon to 8 p.m.\; May 10: 8 a.m. to 8 p.m.\; May 11: 8 a.m. to 4 p.m. (rain or shine!) For more information\, visit http://maplewoodgardenclub.org/plant-sale
LOCATION:Maplewood Community Pool parking lot\, 187 Boyden Avenue\, Maplewood
UID:e.870.15401
SEQUENCE:3
DTSTAMP:20260419T192811Z
URL:https://business.suburbanchambers.org/events/details/82nd-annual-maplewood-garden-club-plant-sale-05-10-2019-15401
END:VEVENT

END:VCALENDAR
