BEGIN:VCALENDAR
VERSION:2.0
PRODID:-//ChamberMaster//Event Calendar 2.0//EN
METHOD:PUBLISH
X-PUBLISHED-TTL:P3D
REFRESH-INTERVAL:P3D
CALSCALE:GREGORIAN
BEGIN:VEVENT
DTSTART:20180901T160000Z
DTEND:20180901T160000Z
X-MICROSOFT-CDO-ALLDAYEVENT:FALSE
SUMMARY:7th Annual Laugh Out Loud Charity Auction & Comedy Night Tickets on Sale Now!
DESCRIPTION:The LOL event benefits the Summit Area YMCA?s financial assistance programs for child care\, summer camp\, swim lessons\, 7th Grade Initiative\, and our Achievers Program. In addition to lively stand-up comedy and cocktails\, this event boasts an entertaining live auction.
X-ALT-DESC;FMTTYPE=text/html:The LOL event benefits the Summit Area YMCA?s financial assistance programs for child care\, summer camp\, swim lessons\, 7th Grade Initiative\, and our Achievers Program. In addition to lively stand-up comedy and cocktails\, this event boasts an entertaining live auction.&nbsp\;
LOCATION:The Hilton Short Hills
UID:e.870.14082
SEQUENCE:3
DTSTAMP:20260421T011607Z
URL:https://business.suburbanchambers.org/events/details/7th-annual-laugh-out-loud-charity-auction-comedy-night-tickets-on-sale-now-14082
END:VEVENT

END:VCALENDAR
