BEGIN:VCALENDAR
VERSION:2.0
PRODID:-//ChamberMaster//Event Calendar 2.0//EN
METHOD:PUBLISH
X-PUBLISHED-TTL:P3D
REFRESH-INTERVAL:P3D
CALSCALE:GREGORIAN
BEGIN:VEVENT
DTSTART:20180915T133000Z
DTEND:20180915T160000Z
X-MICROSOFT-CDO-ALLDAYEVENT:FALSE
SUMMARY:22nd Berkeley Heights 5K Charity Road Race & Fitness Walk
DESCRIPTION:Our 22nd Anniversary BH5K Charity Road Race & Fitness Walk will be held on Sunday\, September 22nd\, 2018\, 9:30 am at Memorial Field in Berkeley Heights\, NJ 07922. We have another exciting morning of friendly completion and family fun planned as well as a sea of community support\, so I invite you to register early (convenient online registration is now open)\, which guarantees our  race tee\, sling backpack goodie bag\, plus all new awards!  So please join us and be part of the BH5K family for our special 22nd
X-ALT-DESC;FMTTYPE=text/html:<span style="font-size:14px\;"><span style="font-family: arial\;"><span style="color: rgb(0\, 0\, 0)\; line-height: normal\;">&nbsp\;Our 22nd Anniversary BH5K Charity Road Race &amp\; Fitness Walk will be held o<span style="background-color:#FFFFFF\;">n Sunday\,&nbsp\;</span></span><strong style="color: rgb(0\, 0\, 0)\; font-family: Verdana\, Arial\, Helvetica\, sans-serif\; font-size: 12px\; line-height: normal\; background-color: rgb(85\, 165\, 28)\;"><span style="background-color:#FFFFFF\;">September </span><span style="background-color:#FFFFFF\;">22nd</span></strong><span style="color: rgb(0\, 0\, 0)\; line-height: normal\;"><span style="background-color:#FFFFFF\;">\, 2018\, 9:30 am at Memorial Field in Berkeley Heights\, NJ 07922. We have another exciting morning of friendly completion and family fun planned as well as a sea of community support\, so I invite you to register early (convenient online registration is now open)\, which guarantees our&nbsp\;</span></span><span style="color: rgb(0\, 0\, 0)\; line-height: normal\;">&nbsp\;race tee\, sling backpack goodie bag\, plus all new awards! &nbsp\;So please join us and be part of the BH5K family for our special 22nd</span></span></span>
LOCATION:Memorial Field Berkeley Heights (corner of Park & Plainfield Avenues) or for GPS enter\; 29 Park Avenue Berkeley Heights 07922
UID:e.870.14384
SEQUENCE:3
DTSTAMP:20260421T042205Z
URL:https://business.suburbanchambers.org/events/details/22nd-berkeley-heights-5k-charity-road-race-fitness-walk-14384
END:VEVENT

END:VCALENDAR
