BEGIN:VCALENDAR
VERSION:2.0
PRODID:-//ChamberMaster//Event Calendar 2.0//EN
METHOD:PUBLISH
X-PUBLISHED-TTL:P3D
REFRESH-INTERVAL:P3D
CALSCALE:GREGORIAN
BEGIN:VEVENT
DTSTART:20230112T000000Z
DTEND:20230112T023000Z
X-MICROSOFT-CDO-ALLDAYEVENT:FALSE
SUMMARY:2023 Winter Sing!
DESCRIPTION:Make 2023 your most joyful year yet! Come try something new with a supportive\, fun group of women. Join us every Wednesday in January to sing Broadway\, Beatles\, and more. Come for the music. Stay for the friendship and fun! And it's FREE!
X-ALT-DESC;FMTTYPE=text/html:Make 2023 your most joyful year yet! Come try something new with a supportive\, fun group of women. Join us every Wednesday in January to sing Broadway\, Beatles\, and more. Come for the music. Stay for the friendship and fun! And it&#39\;s FREE!
LOCATION:Shrine of Saint Joseph\, Stirling\, NJ
UID:e.870.18310
SEQUENCE:3
DTSTAMP:20260421T192451Z
URL:https://business.suburbanchambers.org/events/details/2023-winter-sing-01-11-2023-18310
END:VEVENT

END:VCALENDAR
