BEGIN:VCALENDAR
VERSION:2.0
PRODID:-//ChamberMaster//Event Calendar 2.0//EN
METHOD:PUBLISH
X-PUBLISHED-TTL:P3D
REFRESH-INTERVAL:P3D
CALSCALE:GREGORIAN
BEGIN:VEVENT
DTSTART:20180430T220000Z
DTEND:20180501T010000Z
X-MICROSOFT-CDO-ALLDAYEVENT:FALSE
SUMMARY:2018 Suburban Chamber of Commerce Annual Awards Dinner
DESCRIPTION:The Suburban Chamber of Commerce Annual Awards Dinner\nJoin us as we honor ....\n\n  \n\n\nPresident?s Award \n\n            Jim DiMaio\n\nBusiness of the Year \n\n            Skin Deep Salon and Spa\n\nCitizens of the Year \n\n            Jude Avelino & Drew Maldonado\n\nOrganization of the Year  \n\n            The Brooke Healey Foundation\n\nSilver Service Award \n\n            Diane Swett   \n\nGood Neighbor Award  \n\n           Reeves-Reed Arboretum
X-ALT-DESC;FMTTYPE=text/html:<span style="font-size:18px\;"><strong><span style="color:#000000\;"><span style="font-family:tahoma\;">The Suburban Chamber of Commerce Annual Awards Dinner</span></span></strong></span>\n<div _mce_style="font-family: Arial\, Helvetica\, sans-serif\; font-size: 22pt\; color: #000000\;" style="color: rgb(0\, 0\, 0)\; line-height: normal\; font-family: Arial\, Helvetica\, sans-serif\; font-size: 22pt\;"><span style="font-size:18px\;"><strong><span style="color:#000000\;"><span style="font-family:tahoma\;">Join us as we&nbsp\;honor ....</span></span></strong></span></div>\n\n<div _mce_style="font-family: Arial\, Helvetica\, sans-serif\; font-size: 10pt\; color: #000000\;" style="color: rgb(0\, 0\, 0)\; line-height: normal\; font-family: Arial\, Helvetica\, sans-serif\; font-size: 10pt\;">&nbsp\;&nbsp\;</div>\n\n<div _mce_style="color: #000000\;" style="line-height: normal\;">\n<p _mce_style="font-family: Arial\, Helvetica\, sans-serif\; font-size: 10pt\; margin: 0in 0in 0pt\;" style="font-family: Arial\, Helvetica\, sans-serif\; margin: 0in 0in 0pt\;"><span style="color: rgb(0\, 0\, 0)\; font-size: 10pt\;"><span style="font-weight:bold\;language:en-US\;"><span style="color:black\;"><span style="font-size:14.0pt\;">President?s Award </span></span></span><br />\n&nbsp\; &nbsp\; &nbsp\; &nbsp\; &nbsp\; &nbsp\; </span><font color="#ff0000"><span style="font-size: 18.6667px\;"><b><i>Jim DiMaio</i></b></span></font><br />\n<span style="color: rgb(0\, 0\, 0)\; font-size: 10pt\; font-weight: bold\;"><span style="color:black\;"><span style="font-size:14.0pt\;">Business of the Year </span></span></span><br />\n<font color="#000000"><span style="font-size: 10pt\;">&nbsp\;&nbsp\;&nbsp\;&nbsp\;&nbsp\;&nbsp\;&nbsp\;&nbsp\;&nbsp\;&nbsp\;&nbsp\;</span></font><em style="color: rgb(0\, 0\, 0)\; font-size: 10pt\;">&nbsp\;<span style="font-weight:bold\;language:en-US\;"><span style="color:red\;"><span style="font-size:14.0pt\;">Skin Deep Salon and Spa</span></span></span></em><br />\n<span style="color: rgb(0\, 0\, 0)\; font-size: 10pt\; font-weight: bold\;"><span style="color:black\;"><span style="font-size:14.0pt\;">Citizens of the Year </span></span></span><br />\n<span style="color: rgb(0\, 0\, 0)\; font-size: 10pt\;">&nbsp\; &nbsp\; &nbsp\; &nbsp\; &nbsp\; &nbsp\; </span><font color="#ff0000"><span style="font-size: 18.6667px\;"><b><i>Jude Avelino&nbsp\;&amp\; Drew Maldonado</i></b></span></font><br />\n<span style="color: rgb(0\, 0\, 0)\; font-size: 10pt\; font-weight: bold\;"><span style="color:black\;"><span style="font-size:14.0pt\;">Organization of the Year&nbsp\; </span></span></span><br />\n<font color="#000000"><span style="font-size: 10pt\;">&nbsp\;&nbsp\;&nbsp\;&nbsp\;&nbsp\;&nbsp\;&nbsp\;&nbsp\;&nbsp\;&nbsp\;&nbsp\;&nbsp\;</span></font><em style="color: rgb(0\, 0\, 0)\; font-size: 10pt\;"><span style="font-weight:bold\;language:en-US\;"><span style="color:red\;"><span style="font-size:14.0pt\;">The Brooke Healey Foundation</span></span></span></em><br />\n<span style="color: rgb(0\, 0\, 0)\; font-size: 10pt\; font-weight: bold\;"><span style="color:black\;"><span style="font-size:14.0pt\;">Silver Service </span></span></span><span style="color: rgb(0\, 0\, 0)\; font-size: 10pt\; font-weight: bold\;"><span style="font-size:14.0pt\;">Award</span><span style="color:red\;"><span style="font-size:14.0pt\;"> </span></span></span><br />\n<font color="#000000"><span style="font-size: 10pt\;">&nbsp\;&nbsp\;&nbsp\;&nbsp\;&nbsp\;&nbsp\;&nbsp\;&nbsp\;&nbsp\;&nbsp\;&nbsp\;&nbsp\;</span></font><em style="color: rgb(0\, 0\, 0)\; font-size: 10pt\;"><span style="font-weight:bold\;language:en-US\;"><span style="color:red\;"><span style="font-size:14.0pt\;">Diane Swett</span></span></span></em><font color="#000000"><span style="font-size: 10pt\;">&nbsp\; &nbsp\;</span></font><br />\n<span style="color: rgb(0\, 0\, 0)\; font-size: 10pt\; font-weight: bold\;"><span style="color:black\;"><span style="font-size:14.0pt\;">Good Neighbor Award&nbsp\; </span></span></span><br />\n<span style="color: rgb(0\, 0\, 0)\; font-size: 10pt\;">&nbsp\; &nbsp\; &nbsp\; &nbsp\; &nbsp\; &nbsp\;</span><font color="#ff0000"><span style="font-size: 18.6667px\;"><b><i>Reeves-Reed Arboretum</i></b></span></font><br />\n&nbsp\;</p>\n</div>\n
LOCATION:The Grand Summit Hotel 570 Springfield Avenue Summit\, NJ 07901
UID:e.870.10239
SEQUENCE:3
DTSTAMP:20260421T193045Z
URL:https://business.suburbanchambers.org/events/details/2018-suburban-chamber-of-commerce-annual-awards-dinner-10239
END:VEVENT

END:VCALENDAR
