BEGIN:VCALENDAR
VERSION:2.0
PRODID:-//ChamberMaster//Event Calendar 2.0//EN
METHOD:PUBLISH
X-PUBLISHED-TTL:P3D
REFRESH-INTERVAL:P3D
CALSCALE:GREGORIAN
BEGIN:VEVENT
DTSTART:20181206T140000Z
DTEND:20181207T010000Z
X-MICROSOFT-CDO-ALLDAYEVENT:FALSE
SUMMARY:2018 Holiday Boutique at Reeves-Reed Arboretum
DESCRIPTION:SHOP 'TIL YOU 'SUGAR' DROP! Join us for our annual Holiday Boutique and Garden Shoppe on Thursday\, December 6\, 2018. The boutique will be open during our annual holiday house tour as well as in the evening. The boutique is FREE and OPEN to the PUBLIC! Select vendors will include an eclectic mix of merchants and artisans all offering a wonderland of gifts and treats for everyone on your holiday list! The Arboretum Holiday Garden Shoppe will also have one-of-a-kind seasonal arrangements\, wreaths and d cor for sale. Hours: 9:00 AM to 4:00 PM & 5:00 PM to 8:00 PM Bring a friend and enjoy complimentary holiday cheer while shopping our evening hours! Date/Time:  Thursday\, December 6\, 9:00am to 4:00pm and 5:00pm to 8:00pm. Location:  Reeves-Reed Arboretum\, 165 Hobart Ave.\, Summit\, NJ 07901 Ages:  Adult Cost:  FREE Pre-Registration:  NONE  More Information:  RRA Website  Contact:  Doreen Schindler\, D.Schindler@Reeves-ReedArboretum.org\, (908) 273-8787 x1010.
X-ALT-DESC;FMTTYPE=text/html:SHOP &#39\;TIL YOU &#39\;SUGAR&#39\; DROP! Join us for our annual Holiday Boutique and Garden Shoppe on Thursday\, December 6\, 2018. The boutique will be open during our annual holiday house tour as well as in the evening. The boutique is FREE and OPEN to the PUBLIC! Select vendors will include an eclectic mix of merchants and artisans all offering a wonderland of gifts and treats for everyone on your holiday list! The Arboretum Holiday Garden Shoppe will also have one-of-a-kind seasonal arrangements\, wreaths and d&eacute\;cor for sale. Hours: 9:00 AM to 4:00 PM &amp\; 5:00 PM to 8:00 PM Bring a friend and enjoy complimentary holiday cheer while shopping our evening hours! Date/Time:&nbsp\; Thursday\, December 6\, 9:00am to 4:00pm and 5:00pm to 8:00pm. Location:&nbsp\; Reeves-Reed Arboretum\, 165 Hobart Ave.\, Summit\, NJ 07901 Ages:&nbsp\; Adult Cost:&nbsp\; FREE Pre-Registration:&nbsp\; NONE&nbsp\; More Information:&nbsp\; RRA Website&nbsp\; Contact:&nbsp\; Doreen Schindler\, D.Schindler@Reeves-ReedArboretum.org\, (908) 273-8787 x1010.
LOCATION:Reeves-Reed Arboretum\, 165 Hobart Ave.\, Summit\, NJ 07901
UID:e.870.14851
SEQUENCE:3
DTSTAMP:20260420T150131Z
URL:https://business.suburbanchambers.org/events/details/2018-holiday-boutique-at-reeves-reed-arboretum-14851
END:VEVENT

END:VCALENDAR
