BEGIN:VCALENDAR
VERSION:2.0
PRODID:-//ChamberMaster//Event Calendar 2.0//EN
METHOD:PUBLISH
X-PUBLISHED-TTL:P3D
REFRESH-INTERVAL:P3D
CALSCALE:GREGORIAN
BEGIN:VEVENT
DTSTART:20190406T230000Z
DTEND:20190407T030000Z
X-MICROSOFT-CDO-ALLDAYEVENT:FALSE
SUMMARY:125th Anniversary Celebration - The Fortnightly Club of Summit
DESCRIPTION:JOIN US - Party at our Clubhouse to celebrate 125 years of The Fortnightly Club of Summit. Lite Bites (What A Dish)\, Live Music (World of Rock Trio)\, Beer-Wine-Signature Cocktail.
X-ALT-DESC;FMTTYPE=text/html:JOIN US - Party at our Clubhouse to celebrate 125 years of The Fortnightly Club of Summit. Lite Bites (What A Dish)\, Live Music (World of Rock Trio)\, Beer-Wine-Signature Cocktail.
LOCATION:Our Clubhouse - Twin Maples 214 Springfield Ave\, Summit
UID:e.870.15380
SEQUENCE:3
DTSTAMP:20260420T043158Z
URL:https://business.suburbanchambers.org/events/details/125th-anniversary-celebration-the-fortnightly-club-of-summit-15380
END:VEVENT

END:VCALENDAR
