BEGIN:VCALENDAR
VERSION:2.0
PRODID:-//ChamberMaster//Event Calendar 2.0//EN
METHOD:PUBLISH
X-PUBLISHED-TTL:P3D
REFRESH-INTERVAL:P3D
CALSCALE:GREGORIAN
BEGIN:VEVENT
DTSTART:20190106T183000Z
DTEND:20190106T200000Z
X-MICROSOFT-CDO-ALLDAYEVENT:FALSE
SUMMARY:10 Steps to Create a Short Film
DESCRIPTION:Come learn from Chris Messineo\, New Providence local\, award-winning writer and director\, and owner of NJ Film School\, a simple 10-step approach to creating your own short films. Open to teens in grades 7-12. Pre-registration required.
X-ALT-DESC;FMTTYPE=text/html:Come learn from Chris Messineo\, New Providence local\, award-winning writer and director\, and owner of NJ Film School\, a simple 10-step approach to creating your own short films. Open to teens in grades 7-12. Pre-registration required.
LOCATION:New Providence Memorial Library
UID:e.870.15194
SEQUENCE:3
DTSTAMP:20260420T143737Z
URL:https://business.suburbanchambers.org/events/details/10-steps-to-create-a-short-film-15194
END:VEVENT

END:VCALENDAR
